BEGIN:VCALENDAR
VERSION:2.0
PRODID:-//Queensland Fruit Fly Yarra Valley - ECPv5.2.1.1//NONSGML v1.0//EN
CALSCALE:GREGORIAN
METHOD:PUBLISH
X-WR-CALNAME:Queensland Fruit Fly Yarra Valley
X-ORIGINAL-URL:https://fruitflyfreeyv.com.au
X-WR-CALDESC:Events for Queensland Fruit Fly Yarra Valley
BEGIN:VTIMEZONE
TZID:UTC
BEGIN:STANDARD
TZOFFSETFROM:+0000
TZOFFSETTO:+0000
TZNAME:UTC
DTSTART:20180101T000000
END:STANDARD
END:VTIMEZONE
BEGIN:VEVENT
DTSTART;TZID=UTC:20180228T183000
DTEND;TZID=UTC:20180228T193000
DTSTAMP:20210224T024731
CREATED:20180225T062503Z
LAST-MODIFIED:20180225T062503Z
UID:304-1519842600-1519846200@fruitflyfreeyv.com.au
SUMMARY:WOORI YALLOCK COMMUNITY INFORMATION SESSION
DESCRIPTION:Woori Yallock Community House is hosting a Queensland Fruit Fly information session for Yarra Valley residents. \nGardeners and Commercial growers are all welcome. \nWednesday 6:30 PM – 7:30 PM \n1385 Healesville Koo Wee Rup Rd\, Woori Yallock \nRegistrations essential for catering and hosting requirements. \nphone \nSimone Roberts \nAdministration Assistant \nWoori House Inc \n5964 6857
URL:https://fruitflyfreeyv.com.au/event/woori-yallock-community-information-session/
END:VEVENT
END:VCALENDAR