BEGIN:VCALENDAR
VERSION:2.0
PRODID:-//Queensland Fruit Fly Yarra Valley - ECPv5.2.1.1//NONSGML v1.0//EN
CALSCALE:GREGORIAN
METHOD:PUBLISH
X-WR-CALNAME:Queensland Fruit Fly Yarra Valley
X-ORIGINAL-URL:https://fruitflyfreeyv.com.au
X-WR-CALDESC:Events for Queensland Fruit Fly Yarra Valley
BEGIN:VTIMEZONE
TZID:UTC
BEGIN:STANDARD
TZOFFSETFROM:+0000
TZOFFSETTO:+0000
TZNAME:UTC
DTSTART:20180101T000000
END:STANDARD
END:VTIMEZONE
BEGIN:VEVENT
DTSTART;TZID=UTC:20180414T150000
DTEND;TZID=UTC:20180414T163000
DTSTAMP:20210224T023757
CREATED:20180411T074909Z
LAST-MODIFIED:20180411T074909Z
UID:321-1523718000-1523723400@fruitflyfreeyv.com.au
SUMMARY:Queensland Fruit Fly Information Session
DESCRIPTION:
URL:https://fruitflyfreeyv.com.au/event/queensland-fruit-fly-information-session/
LOCATION:Healesville Garden Supplies\, 82 Maroondah Hwy\, Healesville\, Victoria\, 3777\, Australia
END:VEVENT
END:VCALENDAR