BEGIN:VCALENDAR
VERSION:2.0
PRODID:-//Queensland Fruit Fly Yarra Valley - ECPv5.2.1.1//NONSGML v1.0//EN
CALSCALE:GREGORIAN
METHOD:PUBLISH
X-WR-CALNAME:Queensland Fruit Fly Yarra Valley
X-ORIGINAL-URL:https://fruitflyfreeyv.com.au
X-WR-CALDESC:Events for Queensland Fruit Fly Yarra Valley
BEGIN:VTIMEZONE
TZID:UTC
BEGIN:STANDARD
TZOFFSETFROM:+0000
TZOFFSETTO:+0000
TZNAME:UTC
DTSTART:20180101T000000
END:STANDARD
END:VTIMEZONE
BEGIN:VEVENT
DTSTART;TZID=UTC:20181027T150000
DTEND;TZID=UTC:20181027T163000
DTSTAMP:20210224T023617
CREATED:20181023T042623Z
LAST-MODIFIED:20181023T042911Z
UID:335-1540652400-1540657800@fruitflyfreeyv.com.au
SUMMARY:Queensland Fruit Fly awareness and prevention
DESCRIPTION:Queensland Fruit Fly – awareness and prevention information session \nKOO WEE RUP  ECO HOUSE & COMMUNITY GARDEN \n  \nEvent organiser: Karen Thomas – Port Phillip and Westernport CMA \nEvent Venue: ECO HOUSE & COMMUNITY GARDEN\, 215 Rossiter Rd Koo Wee Rup \nOctober 27th 2018 – 3PM \nRSVP Karen; 0427480170 or karen.thomas@ppwcam.vic.gov.au \n 
URL:https://fruitflyfreeyv.com.au/event/queensland-fruit-fly-awareness-and-prevention/
END:VEVENT
END:VCALENDAR