BEGIN:VCALENDAR
VERSION:2.0
PRODID:-//Queensland Fruit Fly Yarra Valley - ECPv5.2.1.1//NONSGML v1.0//EN
CALSCALE:GREGORIAN
METHOD:PUBLISH
X-WR-CALNAME:Queensland Fruit Fly Yarra Valley
X-ORIGINAL-URL:https://fruitflyfreeyv.com.au
X-WR-CALDESC:Events for Queensland Fruit Fly Yarra Valley
BEGIN:VTIMEZONE
TZID:UTC
BEGIN:STANDARD
TZOFFSETFROM:+0000
TZOFFSETTO:+0000
TZNAME:UTC
DTSTART:20180101T000000
END:STANDARD
END:VTIMEZONE
BEGIN:VEVENT
DTSTART;TZID=UTC:20181020T100000
DTEND;TZID=UTC:20181020T140000
DTSTAMP:20210224T023428
CREATED:20181023T045308Z
LAST-MODIFIED:20181023T045308Z
UID:343-1540029600-1540044000@fruitflyfreeyv.com.au
SUMMARY:Macclesfield Landcare - service industry groups day
DESCRIPTION:Queensland Fruit Fly will feature at the Macclesfield Landcare community event. \nAlong with other service providers such as Melbourne Water’s rural lands program\, the CFA and the weeds teams from the Yarra Ranges Council and Cardinia Council\, learn how  you can be an active member of your community and promote resilience when dealing with community land management issues. \nWe’re all in this one together. \nFree event. \nMacclesfield Hall. 10 am – 2pm Saturday 20th October
URL:https://fruitflyfreeyv.com.au/event/macclesfield-landcare-service-industry-groups-day/
END:VEVENT
END:VCALENDAR