BEGIN:VCALENDAR
VERSION:2.0
PRODID:-//Queensland Fruit Fly Yarra Valley - ECPv5.2.1.1//NONSGML v1.0//EN
CALSCALE:GREGORIAN
METHOD:PUBLISH
X-WR-CALNAME:Queensland Fruit Fly Yarra Valley
X-ORIGINAL-URL:https://fruitflyfreeyv.com.au
X-WR-CALDESC:Events for Queensland Fruit Fly Yarra Valley
BEGIN:VTIMEZONE
TZID:UTC
BEGIN:STANDARD
TZOFFSETFROM:+0000
TZOFFSETTO:+0000
TZNAME:UTC
DTSTART:20180101T000000
END:STANDARD
END:VTIMEZONE
BEGIN:VEVENT
DTSTART;TZID=UTC:20181027T103000
DTEND;TZID=UTC:20181027T130000
DTSTAMP:20210224T023604
CREATED:20181023T043940Z
LAST-MODIFIED:20181023T043940Z
UID:338-1540636200-1540645200@fruitflyfreeyv.com.au
SUMMARY:Blackberry Management Techniques - for fruit fly prevention
DESCRIPTION:  \n  \n \nWAGS – Wabbit Action Group of Silvan \nWAGS are hosting a blackberry removal and management event to assist in the control and prevention of Queensland fruit fly. Blackberry eradication techniques will be discussed and demonstrated.  \n(Blackberries are of interest to WAGS as they are also a host of rabbits.) \nDate: 27th October 2018 \nVenue:  Edmund Rd\, Silvan \nTime: 10:30am \nRSVP’s : Alison Brinson (email) alison@penybryn.com.au \n 
URL:https://fruitflyfreeyv.com.au/event/blackberry-management-techniques-for-fruit-fly-prevention/
END:VEVENT
END:VCALENDAR